BEGIN:VCALENDAR
VERSION:2.0
PRODID:-//wp-events-plugin.com//7.2.3.1//EN
TZID:America/New_York
X-WR-TIMEZONE:America/New_York
BEGIN:VEVENT
UID:836@rusticsquare.com
DTSTART;TZID=America/New_York:20260413T180000
DTEND;TZID=America/New_York:20260427T193000
DTSTAMP:20260414T181216Z
URL:https://rusticsquare.com/events/van-gogh-colors-art-classes-for-kids-8
 -12-years-old-monday-january-6-27-2024-600-730-pm-180/
SUMMARY:Van Gogh Colors - Art Classes for Kids (8-12 years old) - Monday\, 
 April 13-27\, 2026\, 6:00-7:30 pm\, $145
DESCRIPTION:
ATTACH;FMTTYPE=image/jpeg:https://rusticsquare.com/wp-content/uploads/2023
 /03/DSC5805small.jpg
CATEGORIES:Art Classes for Kids
LOCATION:Rustic Square Art Studio\, 9 Village Square E\, Clifton\, NJ\, 070
 11\, United States
X-APPLE-STRUCTURED-LOCATION;VALUE=URI;X-ADDRESS=9 Village Square E\, Clifto
 n\, NJ\, 07011\, United States;X-APPLE-RADIUS=100;X-TITLE=Rustic Square Ar
 t Studio:geo:0,0
END:VEVENT
BEGIN:VTIMEZONE
TZID:America/New_York
X-LIC-LOCATION:America/New_York
BEGIN:DAYLIGHT
DTSTART:20260308T030000
TZOFFSETFROM:-0500
TZOFFSETTO:-0400
TZNAME:EDT
END:DAYLIGHT
END:VTIMEZONE
END:VCALENDAR