BEGIN:VCALENDAR
VERSION:2.0
PRODID:-//wp-events-plugin.com//7.2.3.1//EN
TZID:America/New_York
X-WR-TIMEZONE:America/New_York
BEGIN:VEVENT
UID:929@rusticsquare.com
DTSTART;TZID=America/New_York:20260407T170000
DTEND;TZID=America/New_York:20260428T180000
DTSTAMP:20260414T151459Z
URL:https://rusticsquare.com/events/little-artists-art-classes-for-kids-5-
 7-years-old-tuesday-april-7-28-2025-500-600-pm-130/
SUMMARY:Little Artists - Art Classes for Kids (5-7 years old)\, Tuesday\, A
 pril 7-28\, 2025\, 5:00-6:00 pm\, $130
DESCRIPTION:
ATTACH;FMTTYPE=image/jpeg:https://rusticsquare.com/wp-content/uploads/2023
 /03/DSC6005small.jpg
CATEGORIES:Art Classes for Kids
LOCATION:Rustic Square Art Studio\, 9 Village Square E\, Clifton\, NJ\, 070
 11\, United States
X-APPLE-STRUCTURED-LOCATION;VALUE=URI;X-ADDRESS=9 Village Square E\, Clifto
 n\, NJ\, 07011\, United States;X-APPLE-RADIUS=100;X-TITLE=Rustic Square Ar
 t Studio:geo:0,0
END:VEVENT
BEGIN:VTIMEZONE
TZID:America/New_York
X-LIC-LOCATION:America/New_York
BEGIN:DAYLIGHT
DTSTART:20260308T030000
TZOFFSETFROM:-0500
TZOFFSETTO:-0400
TZNAME:EDT
END:DAYLIGHT
END:VTIMEZONE
END:VCALENDAR