BEGIN:VCALENDAR
VERSION:2.0
PRODID:-//wp-events-plugin.com//7.2.3.1//EN
TZID:America/New_York
X-WR-TIMEZONE:America/New_York
BEGIN:VEVENT
UID:918@rusticsquare.com
DTSTART;TZID=America/New_York:20260408T170000
DTEND;TZID=America/New_York:20260429T180000
DTSTAMP:20260408T180834Z
URL:https://rusticsquare.com/events/hand-sewing-embroidery-felting-knittin
 g-for-kids-5-7-wednesday-march-4-11-18-25-2026-5-6-pm-100/
SUMMARY:Hand sewing/embroidery/felting/knitting for Kids & Teens - Wednesda
 y\, April 8/15/22/29\, 2026\, 5-6 pm $100
DESCRIPTION:
ATTACH;FMTTYPE=image/jpeg:https://rusticsquare.com/wp-content/uploads/2026
 /02/1.jpg
CATEGORIES:Art Classes for Kids
LOCATION:Rustic Square Art Studio\, 9 Village Square E\, Clifton\, NJ\, 070
 11\, United States
X-APPLE-STRUCTURED-LOCATION;VALUE=URI;X-ADDRESS=9 Village Square E\, Clifto
 n\, NJ\, 07011\, United States;X-APPLE-RADIUS=100;X-TITLE=Rustic Square Ar
 t Studio:geo:0,0
END:VEVENT
BEGIN:VTIMEZONE
TZID:America/New_York
X-LIC-LOCATION:America/New_York
BEGIN:DAYLIGHT
DTSTART:20260308T030000
TZOFFSETFROM:-0500
TZOFFSETTO:-0400
TZNAME:EDT
END:DAYLIGHT
END:VTIMEZONE
END:VCALENDAR