BEGIN:VCALENDAR
VERSION:2.0
PRODID:-//wp-events-plugin.com//7.2.3.1//EN
TZID:America/New_York
X-WR-TIMEZONE:America/New_York
BEGIN:VEVENT
UID:917@rusticsquare.com
DTSTART;TZID=America/New_York:20260418T150000
DTEND;TZID=America/New_York:20260418T170000
DTSTAMP:20260316T182537Z
URL:https://rusticsquare.com/events/art-birthday-party-for-kids-saturday-a
 pril-18-2026-3-5-pm-120-deposit/
SUMMARY:Art Birthday Party for Kids - Saturday\, April 18\, 2026\, 3-5 pm\,
  $120 deposit
DESCRIPTION:
ATTACH;FMTTYPE=image/jpeg:https://rusticsquare.com/wp-content/uploads/2025
 /12/Art-BirthdayParty_1a_sold_out.jpg
CATEGORIES:Art Birthday Parties for Kids
LOCATION:Rustic Square Art Studio\, 9 Village Square E\, Clifton\, NJ\, 070
 11\, United States
X-APPLE-STRUCTURED-LOCATION;VALUE=URI;X-ADDRESS=9 Village Square E\, Clifto
 n\, NJ\, 07011\, United States;X-APPLE-RADIUS=100;X-TITLE=Rustic Square Ar
 t Studio:geo:0,0
END:VEVENT
BEGIN:VTIMEZONE
TZID:America/New_York
X-LIC-LOCATION:America/New_York
BEGIN:DAYLIGHT
DTSTART:20260308T030000
TZOFFSETFROM:-0500
TZOFFSETTO:-0400
TZNAME:EDT
END:DAYLIGHT
END:VTIMEZONE
END:VCALENDAR